BEGIN:VCALENDAR
VERSION:2.0
PRODID:-//I.E.S. Mar de Alborán - ECPv6.15.20//NONSGML v1.0//EN
CALSCALE:GREGORIAN
METHOD:PUBLISH
X-ORIGINAL-URL:https://maralboran.eu
X-WR-CALDESC:Eventos para I.E.S. Mar de Alborán
REFRESH-INTERVAL;VALUE=DURATION:PT1H
X-Robots-Tag:noindex
X-PUBLISHED-TTL:PT1H
BEGIN:VTIMEZONE
TZID:Europe/Paris
BEGIN:DAYLIGHT
TZOFFSETFROM:+0100
TZOFFSETTO:+0200
TZNAME:CEST
DTSTART:20230326T010000
END:DAYLIGHT
BEGIN:STANDARD
TZOFFSETFROM:+0200
TZOFFSETTO:+0100
TZNAME:CET
DTSTART:20231029T010000
END:STANDARD
BEGIN:DAYLIGHT
TZOFFSETFROM:+0100
TZOFFSETTO:+0200
TZNAME:CEST
DTSTART:20240331T010000
END:DAYLIGHT
BEGIN:STANDARD
TZOFFSETFROM:+0200
TZOFFSETTO:+0100
TZNAME:CET
DTSTART:20241027T010000
END:STANDARD
BEGIN:DAYLIGHT
TZOFFSETFROM:+0100
TZOFFSETTO:+0200
TZNAME:CEST
DTSTART:20250330T010000
END:DAYLIGHT
BEGIN:STANDARD
TZOFFSETFROM:+0200
TZOFFSETTO:+0100
TZNAME:CET
DTSTART:20251026T010000
END:STANDARD
END:VTIMEZONE
BEGIN:VEVENT
DTSTART;VALUE=DATE:20240415
DTEND;VALUE=DATE:20240419
DTSTAMP:20260425T132531
CREATED:20240415T101000Z
LAST-MODIFIED:20240415T101000Z
UID:11886-1713139200-1713484799@maralboran.eu
SUMMARY:Charla Plan Director Policía Nacional
DESCRIPTION:Asisten todos los 2º ESO
URL:https://maralboran.eu/event/charla-plan-director-policia-nacional/
LOCATION:Aula de grupo
END:VEVENT
BEGIN:VEVENT
DTSTART;VALUE=DATE:20240416
DTEND;VALUE=DATE:20240418
DTSTAMP:20260425T132531
CREATED:20240415T101733Z
LAST-MODIFIED:20240415T101733Z
UID:11890-1713225600-1713398399@maralboran.eu
SUMMARY:Charla de educación vial
DESCRIPTION:Charla de educación vial POLICIA LOCAL: por CARLOS CORONIL \nAsisten todos los 3º ESO y 1º FPB \nOBJETIVOS Y CONTENIDOS:\n-El objetivo de la charla es dotar a nuestro alumnado de conocimientos básicos de educación\nvial para un uso adecuado bien de medios de transportes bien como viandante.\n-Normas de circulación con el patinete eléctrico como de la bicicleta o carril bici.
URL:https://maralboran.eu/event/charla-de-educacion-vial/
LOCATION:Aula de grupo
END:VEVENT
BEGIN:VEVENT
DTSTART;TZID=Europe/Paris:20240416T081500
DTEND;TZID=Europe/Paris:20240416T144500
DTSTAMP:20260425T132531
CREATED:20240415T101206Z
LAST-MODIFIED:20240415T101206Z
UID:11887-1713255300-1713278700@maralboran.eu
SUMMARY:Juegos en la Playa
DESCRIPTION:Jornadas de Juegos en la Playa de Malapesquera \nAsisten 3º ESO A-E-F y 1º FPB
URL:https://maralboran.eu/event/juegos-en-la-playa/
LOCATION:Benalmádena
END:VEVENT
END:VCALENDAR